BEGIN:VCALENDAR
PRODID:-//Date iCal//NONSGML Brightspot CMS//
VERSION:2.0
METHOD:PUBLISH
BEGIN:VEVENT
DTSTAMP:20260423T235949Z
SUMMARY: Breakfast Waffle Special 
UID:calendar.0000019d-adb2-dc0e-ad9f-bfffd9280001field_event_date.0@calendar.byu.edu
CREATED:20260421T015721Z
LAST-MODIFIED:20260421T183407Z
LOCATION:Banyan Dining Hall
DTSTART;TZID=Pacific/Honolulu:20260506T070000
DTEND;TZID=Pacific/Honolulu:20260506T100000
ORGANIZER;CN="Food Services:MAILTO:marilou.lee@byuh.edu:TEL:(808) 675-3570":
SUMMARY: Breakfast Waffle Special 
URL:https://foodservices.byuh.edu/activities-and-socials/breakfast-waffle-special-2026-05-06
END:VEVENT
BEGIN:VTIMEZONE
TZID:Pacific/Honolulu
TZURL:http://tzurl.org/zoneinfo/Pacific/Honolulu
X-LIC-LOCATION:Pacific/Honolulu
BEGIN:STANDARD
TZOFFSETFROM:-103126
TZOFFSETTO:-1030
TZNAME:HST
DTSTART:18960113T120000
RDATE:18960113T120000
END:STANDARD
BEGIN:DAYLIGHT
TZOFFSETFROM:-1030
TZOFFSETTO:-0930
TZNAME:HDT
DTSTART:19330430T020000
RDATE:19330430T020000
END:DAYLIGHT
BEGIN:STANDARD
TZOFFSETFROM:-0930
TZOFFSETTO:-1030
TZNAME:HST
DTSTART:19330521T120000
RDATE:19330521T120000
RDATE:19450930T020000
END:STANDARD
BEGIN:DAYLIGHT
TZOFFSETFROM:-1030
TZOFFSETTO:-0930
TZNAME:HWT
DTSTART:19420209T020000
RDATE:19420209T020000
END:DAYLIGHT
BEGIN:DAYLIGHT
TZOFFSETFROM:-0930
TZOFFSETTO:-0930
TZNAME:HPT
DTSTART:19450814T133000
RDATE:19450814T133000
END:DAYLIGHT
BEGIN:STANDARD
TZOFFSETFROM:-1030
TZOFFSETTO:-1000
TZNAME:HST
DTSTART:19470608T020000
RDATE:19470608T020000
END:STANDARD
END:VTIMEZONE
END:VCALENDAR
